BEGIN:VCALENDAR
VERSION:2.0
PRODID:-//The Studio Reno - ECPv4.8.2//NONSGML v1.0//EN
CALSCALE:GREGORIAN
METHOD:PUBLISH
X-WR-CALNAME:The Studio Reno
X-ORIGINAL-URL:https://thestudioreno.com
X-WR-CALDESC:Events for The Studio Reno
BEGIN:VEVENT
DTSTART;VALUE=DATE:20251002
DTEND;VALUE=DATE:20251003
DTSTAMP:20260423T002406
CREATED:20250722T042817Z
LAST-MODIFIED:20250722T042817Z
UID:2405-1759363200-1759449599@thestudioreno.com
SUMMARY:200 Hour Yoga Teacher Training
DESCRIPTION:Join us on a journey of a lifetime\, walking the path with other dedicated yogis\, learning how to teach yoga and delving into yoga philosophy. \nThe journey begins October 2025. \n
URL:https://thestudioreno.com/event/200-hour-yoga-teacher-training/
END:VEVENT
END:VCALENDAR