BEGIN:VCALENDAR
VERSION:2.0
PRODID:-//The Studio Reno - ECPv4.8.2//NONSGML v1.0//EN
CALSCALE:GREGORIAN
METHOD:PUBLISH
X-WR-CALNAME:The Studio Reno
X-ORIGINAL-URL:https://thestudioreno.com
X-WR-CALDESC:Events for The Studio Reno
BEGIN:VEVENT
DTSTART;TZID=America/Los_Angeles:20250815T173000
DTEND;TZID=America/Los_Angeles:20250815T190000
DTSTAMP:20260422T192225
CREATED:20250724T192755Z
LAST-MODIFIED:20250724T192755Z
UID:2410-1755279000-1755284400@thestudioreno.com
SUMMARY:Be Not Afraid: A Non-Writer’s Guide to a Writing Integration Practice with Grace Moore
DESCRIPTION: \nFind out more:\n\nNon-SPS member? Sign up through Zeffy:\nhttps://www.zeffy.com/en-US/ticketing/be-not-afraid-a-non-writers-guide\n \nSPS member? Sign up at no cost through Mindbody:\nhttps://clients.mindbodyonline.com/classic/ws?studioid=5743886&stype=-7&sTG=22&sView=day&sLoc=1&sTrn=5&date=08/15/25\n
URL:https://thestudioreno.com/event/be-not-afraid-a-non-writers-guide-to-a-writing-integration-practice-with-grace-moore/
LOCATION:The Studio\, 1085 S Virginia St\,\, Reno\, NV\, 89502\, United States
END:VEVENT
END:VCALENDAR