BEGIN:VCALENDAR
VERSION:2.0
PRODID:-//The Studio Reno - ECPv4.8.2//NONSGML v1.0//EN
CALSCALE:GREGORIAN
METHOD:PUBLISH
X-WR-CALNAME:The Studio Reno
X-ORIGINAL-URL:https://thestudioreno.com
X-WR-CALDESC:Events for The Studio Reno
BEGIN:VEVENT
DTSTART;TZID=America/Los_Angeles:20250803T173000
DTEND;TZID=America/Los_Angeles:20250803T190000
DTSTAMP:20260422T153024
CREATED:20250724T192611Z
LAST-MODIFIED:20250724T192611Z
UID:2407-1754242200-1754247600@thestudioreno.com
SUMMARY:Breath of Fire
DESCRIPTION: \n
URL:https://thestudioreno.com/event/breath-of-fire-2/
LOCATION:Moran Street\, 600 S. Virginia Street (entrance on Moran)\, Reno
END:VEVENT
END:VCALENDAR