BEGIN:VCALENDAR
VERSION:2.0
PRODID:-//The Studio Reno - ECPv4.8.2//NONSGML v1.0//EN
CALSCALE:GREGORIAN
METHOD:PUBLISH
X-WR-CALNAME:The Studio Reno
X-ORIGINAL-URL:https://thestudioreno.com
X-WR-CALDESC:Events for The Studio Reno
BEGIN:VEVENT
DTSTART;TZID=America/Los_Angeles:20251015T193000
DTEND;TZID=America/Los_Angeles:20251015T203000
DTSTAMP:20260423T013728
CREATED:20251001T152418Z
LAST-MODIFIED:20251001T152418Z
UID:2447-1760556600-1760560200@thestudioreno.com
SUMMARY:Kirtan- Awakening the heart
DESCRIPTION: \n
URL:https://thestudioreno.com/event/kirtan-awakening-the-heart/
LOCATION:Moran Street\, 600 S. Virginia Street (entrance on Moran)\, Reno
END:VEVENT
END:VCALENDAR