BEGIN:VCALENDAR
VERSION:2.0
PRODID:-//The Studio Reno - ECPv4.8.2//NONSGML v1.0//EN
CALSCALE:GREGORIAN
METHOD:PUBLISH
X-WR-CALNAME:The Studio Reno
X-ORIGINAL-URL:https://thestudioreno.com
X-WR-CALDESC:Events for The Studio Reno
BEGIN:VEVENT
DTSTART;TZID=America/Los_Angeles:20190427T100000
DTEND;TZID=America/Los_Angeles:20190427T200000
DTSTAMP:20260422T033241
CREATED:20190422T163133Z
LAST-MODIFIED:20190422T163221Z
UID:672-1556359200-1556395200@thestudioreno.com
SUMMARY:Lucia No. 3 - A light experience
DESCRIPTION:\nTo schedule your appt\, call (775) 284-5545\nHello! Our names are Zachary and Angela – we work with a meditative light machine called the Lucia N°03. Invented in Austria by a medical neurologist and clinical psychiatrist\, there are less than 20 of these lights available to the public in the whole US. The Lucia N°03 is a kinetic photo-stimulator that provides a deep nervous system relaxation while simultaneously encouraging a unique transcendental journeyingexperience. Even novice meditators experience a state of deep relaxation coupled with focus\, where one is in touch with their own intuition and sense of wholeness.A combination of solid and flickering white light passes through closed eyelids\, past the retina to the pineal gland\, and gently entrains the brain waves into the theta state. It also creates a unique visual experience that is different for each light traveler. The inner consciousness of the individual produces colors and scenes of indescribable beauty. Faced with the artistry of ones own inner consciousness\, light travelers cannot help but to re-evaluate their perception. Each experience is as unique as the person in the light. While Dr. Winkler and Dr. Proeckl (the inventors) recommend 4-5 sessions to build new\nsynaptic connections in the brain and start initiating more permanent changes in the way the nervous system responds to stress\, even 1 session provides a moving and unforgettable experience.\nReported benefits include:\nReduced anxiety and stress\nReduced fear and depression\nSense of wholeness / oneness\nIncreased sense of inner peace and emotional stability\nIncreased creativity\nIncreased intuition\nImproved physical healing\nMore restful sleep\nRelease of beneficial hormones related to health and longevity\nAccess to Astral travels and inner journeying\n\nSee Less \n
URL:https://thestudioreno.com/event/lucia-no-3-a-light-experience/
END:VEVENT
END:VCALENDAR