BEGIN:VCALENDAR
VERSION:2.0
PRODID:-//The Studio Reno - ECPv4.8.2//NONSGML v1.0//EN
CALSCALE:GREGORIAN
METHOD:PUBLISH
X-WR-CALNAME:The Studio Reno
X-ORIGINAL-URL:https://thestudioreno.com
X-WR-CALDESC:Events for The Studio Reno
BEGIN:VEVENT
DTSTART;TZID=America/Los_Angeles:20251107T193000
DTEND;TZID=America/Los_Angeles:20251107T203000
DTSTAMP:20260423T074304
CREATED:20251013T175152Z
LAST-MODIFIED:20251015T052751Z
UID:2466-1762543800-1762547400@thestudioreno.com
SUMMARY:November Sound Meditation
DESCRIPTION:\n\n\n\n\n\njoin Us for a Magical Evening!                                                             Location: The Studio-Moran\, Reno\, NV\n\nDate: Friday\, November 7th | Time: 7:30 PM \n• Celebrate Global Psychedelic Week (November 3-9) with us! \nImmerse yourself in the amazing healing properties of a gong-inspired sound bath led by the incredible Wyatt. This event offers a unique opportunity to explore the depths of relaxation and rejuvenation through sound. ( \nYour $50 Donation Includes: \n\nA grounding opening breathwork session\nA blissful 90-minute meditative sound bath experience\nRefreshing beverages and nourishing snacks\n\nDon’t miss this chance to connect with your inner self and experience the transformative power of sound! \n* Reserve your spot now and help us create a harmonious evening of healing and connection! \n\n\n\n\n\n\n\n\n\n\n\n\n\n\n\n\n\n\n\n\n\n\n\n\n\n\n\n\nhttps://www.eventbrite.com/e/gpw-sound-bath-reno-tickets-1703615573039?aff=oddtdtcreator \n
URL:https://thestudioreno.com/event/november-sound-meditation/
LOCATION:Moran Street\, 600 S. Virginia Street (entrance on Moran)\, Reno
END:VEVENT
END:VCALENDAR