BEGIN:VCALENDAR
VERSION:2.0
PRODID:-//The Studio Reno - ECPv4.8.2//NONSGML v1.0//EN
CALSCALE:GREGORIAN
METHOD:PUBLISH
X-WR-CALNAME:The Studio Reno
X-ORIGINAL-URL:https://thestudioreno.com
X-WR-CALDESC:Events for The Studio Reno
BEGIN:VEVENT
DTSTART;TZID=America/Los_Angeles:20260124T100000
DTEND;TZID=America/Los_Angeles:20260124T160000
DTSTAMP:20260424T003144
CREATED:20251226T215502Z
LAST-MODIFIED:20251226T215545Z
UID:2516-1769248800-1769270400@thestudioreno.com
SUMMARY:Rage and Grief ceremony
DESCRIPTION:Join us for a day of connecting with often uncomfortable energies of rage and grief. We will gather in community to witness and move through these energies in a time-limited\, resourced space.\n\nEmma Teresa (somatic coach)\, Sarah LaShelle (ceremonialist)\, and Monica Gonzalez (grief tender) will provide: somatic practices\, herbal elixirs\, and sound healing to witness the energies of rage and grief that we carry and have held in our bodies.\n\nThis time together will be a slow\, reverent ceremony where vulnerability is honored and sacred rage and grief are welcomed so that each person leaves more resourced\, more rooted\, and more in relationship with their own wholeness. Our intention is that by connecting to these energies and allowing them to flow\, you will also allow for the more easeful flow of all the energies of life. \n \n
URL:https://thestudioreno.com/event/rage-and-grief-ceremony/
LOCATION:Moran Street\, 600 S. Virginia Street (entrance on Moran)\, Reno
END:VEVENT
END:VCALENDAR