BEGIN:VCALENDAR
VERSION:2.0
PRODID:-//The Studio Reno - ECPv4.8.2//NONSGML v1.0//EN
CALSCALE:GREGORIAN
METHOD:PUBLISH
X-WR-CALNAME:The Studio Reno
X-ORIGINAL-URL:https://thestudioreno.com
X-WR-CALDESC:Events for The Studio Reno
BEGIN:VEVENT
DTSTART;TZID=America/Los_Angeles:20251101T100000
DTEND;TZID=America/Los_Angeles:20251101T150000
DTSTAMP:20260423T063539
CREATED:20251002T194549Z
LAST-MODIFIED:20251002T194549Z
UID:2458-1761991200-1762009200@thestudioreno.com
SUMMARY:Reiki 1
DESCRIPTION: \n
URL:https://thestudioreno.com/event/reiki-1-2/
ORGANIZER;CN="Kelly%20Aguilera":MAILTO:sacredrootsreno@gmail.com
END:VEVENT
END:VCALENDAR