BEGIN:VCALENDAR
VERSION:2.0
PRODID:-//The Studio Reno - ECPv4.8.2//NONSGML v1.0//EN
CALSCALE:GREGORIAN
METHOD:PUBLISH
X-WR-CALNAME:The Studio Reno
X-ORIGINAL-URL:https://thestudioreno.com
X-WR-CALDESC:Events for The Studio Reno
BEGIN:VEVENT
DTSTART;TZID=America/Los_Angeles:20250726T183000
DTEND;TZID=America/Los_Angeles:20250726T193000
DTSTAMP:20260422T135301
CREATED:20250628T220812Z
LAST-MODIFIED:20250628T221540Z
UID:2396-1753554600-1753558200@thestudioreno.com
SUMMARY:Resonate and Restore
DESCRIPTION: \n
URL:https://thestudioreno.com/event/resonate-and-restore/
LOCATION:Moran Street\, 600 S. Virginia Street (entrance on Moran)\, Reno
END:VEVENT
END:VCALENDAR