BEGIN:VCALENDAR
VERSION:2.0
PRODID:-//The Studio Reno - ECPv4.8.2//NONSGML v1.0//EN
CALSCALE:GREGORIAN
METHOD:PUBLISH
X-WR-CALNAME:The Studio Reno
X-ORIGINAL-URL:https://thestudioreno.com
X-WR-CALDESC:Events for The Studio Reno
BEGIN:VEVENT
DTSTART;TZID=America/Los_Angeles:20251219T173000
DTEND;TZID=America/Los_Angeles:20251219T190000
DTSTAMP:20260423T142914
CREATED:20251201T175641Z
LAST-MODIFIED:20251201T175641Z
UID:2494-1766165400-1766170800@thestudioreno.com
SUMMARY:The Giveaway: A Shamanic Practice of Gratitude
DESCRIPTION: \n
URL:https://thestudioreno.com/event/the-giveaway-a-shamanic-practice-of-gratitude/
LOCATION:The Studio\, 1085 S Virginia St\,\, Reno\, NV\, 89502\, United States
ORGANIZER;CN="Sierra%20Psychedelic%20Society":MAILTO:info@sierrapsychedelic.org
END:VEVENT
END:VCALENDAR