BEGIN:VCALENDAR
VERSION:2.0
PRODID:-//The Studio Reno - ECPv4.8.2//NONSGML v1.0//EN
CALSCALE:GREGORIAN
METHOD:PUBLISH
X-WR-CALNAME:The Studio Reno
X-ORIGINAL-URL:https://thestudioreno.com
X-WR-CALDESC:Events for The Studio Reno
BEGIN:VEVENT
DTSTART;TZID=America/Los_Angeles:20190922T140000
DTEND;TZID=America/Los_Angeles:20190922T163000
DTSTAMP:20260421T184747
CREATED:20190821T200833Z
LAST-MODIFIED:20190908T195817Z
UID:752-1569160800-1569169800@thestudioreno.com
SUMMARY:Therapeutic Restorative Workshop
DESCRIPTION:Breathe\, chant\, meditate\, discover self massage techniques. Heal your muscles and connective tissue. Receive Reiki energy and nourish with essential oils. Sign Up Here\nSunday\, September 22nd 2-4:30.\n$40 \n
URL:https://thestudioreno.com/event/therapeutic-restorative-workshop/
END:VEVENT
END:VCALENDAR