BEGIN:VCALENDAR
VERSION:2.0
PRODID:-//The Studio Reno - ECPv4.8.2//NONSGML v1.0//EN
CALSCALE:GREGORIAN
METHOD:PUBLISH
X-WR-CALNAME:The Studio Reno
X-ORIGINAL-URL:https://thestudioreno.com
X-WR-CALDESC:Events for The Studio Reno
BEGIN:VEVENT
DTSTART;TZID=America/Los_Angeles:20190601T080000
DTEND;TZID=America/Los_Angeles:20190607T170000
DTSTAMP:20260421T214902
CREATED:20190531T182346Z
LAST-MODIFIED:20190531T182518Z
UID:711-1559376000-1559926800@thestudioreno.com
SUMMARY:Yoga Challenge presented by Red Wagon Adventures
DESCRIPTION:To all of The Studio – Yoga fanatics… Join the More Than Yoga – Yoga Challenge\nEnrollment and early start June 1-7\nOfficial start date and document your 5 poses – Saturday June 8th\nFinishing July 3rd – be done before the holidays and enjoy the progress you’ve made\nFine tune 5 of the best basic poses\, and complete challenges for Karma Points*\n*redeemable for discounts and incentives in future months.\n$50 for existing members – (must have 12 punches left or unlimited pass)\nNon-Members: $150\nStudio Member Discount code: STUDIOMEMBER1\nFor Details and to Register: www.REDWAGONADVENTURES.COM\nGet a friend to join you (non-member friends) – give them to a fun way to start Yoga\nAnd get a $50 credit towards your next monthly membership payment\nWith every friend\, receive another $50 credit \n
URL:https://thestudioreno.com/event/yoga-challenge-presented-by-red-wagon-adventures/
END:VEVENT
END:VCALENDAR