BEGIN:VCALENDAR
VERSION:2.0
PRODID:-//The Studio Reno - ECPv4.8.2//NONSGML v1.0//EN
CALSCALE:GREGORIAN
METHOD:PUBLISH
X-WR-CALNAME:The Studio Reno
X-ORIGINAL-URL:https://thestudioreno.com
X-WR-CALDESC:Events for The Studio Reno
BEGIN:VEVENT
DTSTART;TZID=America/Los_Angeles:20190928T093000
DTEND;TZID=America/Los_Angeles:20190928T113000
DTSTAMP:20260421T201140
CREATED:20190726T190457Z
LAST-MODIFIED:20190908T195849Z
UID:734-1569663000-1569670200@thestudioreno.com
SUMMARY:Yoga & The Hips
DESCRIPTION:Do you have stiffness in the hip or pelvic regions? In this workshop we will explore how the stiffness in the hips effects posture\, breath and vitality of the internal organs.\nWe will methodically work through poses to provide more freedom in the hips while exploring the relationship our movement has to tension in the lower back. Sign Up Here\n  \n$40 Pre-Registered \n  \n
URL:https://thestudioreno.com/event/yoga-the-hips/
END:VEVENT
END:VCALENDAR